BEGIN:VCALENDAR
VERSION:2.0
PRODID:https://www.kufer.de/kuferweb / DE
METHOD:PUBLISH
CALSCALE:GREGORIAN
X-WR-TIMEZONE:Europe/Berlin
BEGIN:VTIMEZONE
TZID:Europe/Berlin
X-LIC-LOCATION:Europe/Berlin
BEGIN:DAYLIGHT
TZOFFSETFROM:+0100
TZOFFSETTO:+0200
TZNAME:CEST
DTSTART:19700329T020000
RRULE:FREQ=YEARLY;INTERVAL=1;BYDAY=-1SU;BYMONTH=3
END:DAYLIGHT
BEGIN:STANDARD
TZOFFSETFROM:+0200
TZOFFSETTO:+0100
TZNAME:CET
DTSTART:19701025T030000
RRULE:FREQ=YEARLY;INTERVAL=1;BYDAY=-1SU;BYMONTH=10
END:STANDARD
END:VTIMEZONE
BEGIN:VEVENT
DTSTAMP:20260425T062753
DTSTART;TZID=Europe/Berlin:20260519T180000
DTEND;TZID=Europe/Berlin:20260519T210000
UID:261-5025-20260519T180000@VHSRHEIN-ERFT
SUMMARY:Deutsch als Fremdsprache Anfängerkurs A1 – 2. Teil (261-5025) 
LOCATION:Friedrich-Ebert-Realschule, Krankenhausstr. 91, A002, Krankenhausstr. 91, 50354 Hürth
END:VEVENT
BEGIN:VEVENT
DTSTAMP:20260425T062753
DTSTART;TZID=Europe/Berlin:20260520T180000
DTEND;TZID=Europe/Berlin:20260520T210000
UID:261-5025-20260520T180000@VHSRHEIN-ERFT
SUMMARY:Deutsch als Fremdsprache Anfängerkurs A1 – 2. Teil (261-5025) 
LOCATION:Friedrich-Ebert-Realschule, Krankenhausstr. 91, A002, Krankenhausstr. 91, 50354 Hürth
END:VEVENT
BEGIN:VEVENT
DTSTAMP:20260425T062753
DTSTART;TZID=Europe/Berlin:20260527T180000
DTEND;TZID=Europe/Berlin:20260527T210000
UID:261-5025-20260527T180000@VHSRHEIN-ERFT
SUMMARY:Deutsch als Fremdsprache Anfängerkurs A1 – 2. Teil (261-5025) 
LOCATION:Friedrich-Ebert-Realschule, Krankenhausstr. 91, A002, Krankenhausstr. 91, 50354 Hürth
END:VEVENT
BEGIN:VEVENT
DTSTAMP:20260425T062753
DTSTART;TZID=Europe/Berlin:20260602T180000
DTEND;TZID=Europe/Berlin:20260602T210000
UID:261-5025-20260602T180000@VHSRHEIN-ERFT
SUMMARY:Deutsch als Fremdsprache Anfängerkurs A1 – 2. Teil (261-5025) 
LOCATION:Friedrich-Ebert-Realschule, Krankenhausstr. 91, A002, Krankenhausstr. 91, 50354 Hürth
END:VEVENT
BEGIN:VEVENT
DTSTAMP:20260425T062753
DTSTART;TZID=Europe/Berlin:20260603T180000
DTEND;TZID=Europe/Berlin:20260603T210000
UID:261-5025-20260603T180000@VHSRHEIN-ERFT
SUMMARY:Deutsch als Fremdsprache Anfängerkurs A1 – 2. Teil (261-5025) 
LOCATION:Friedrich-Ebert-Realschule, Krankenhausstr. 91, A002, Krankenhausstr. 91, 50354 Hürth
END:VEVENT
BEGIN:VEVENT
DTSTAMP:20260425T062753
DTSTART;TZID=Europe/Berlin:20260609T180000
DTEND;TZID=Europe/Berlin:20260609T210000
UID:261-5025-20260609T180000@VHSRHEIN-ERFT
SUMMARY:Deutsch als Fremdsprache Anfängerkurs A1 – 2. Teil (261-5025) 
LOCATION:Friedrich-Ebert-Realschule, Krankenhausstr. 91, A002, Krankenhausstr. 91, 50354 Hürth
END:VEVENT
BEGIN:VEVENT
DTSTAMP:20260425T062753
DTSTART;TZID=Europe/Berlin:20260610T180000
DTEND;TZID=Europe/Berlin:20260610T210000
UID:261-5025-20260610T180000@VHSRHEIN-ERFT
SUMMARY:Deutsch als Fremdsprache Anfängerkurs A1 – 2. Teil (261-5025) 
LOCATION:Friedrich-Ebert-Realschule, Krankenhausstr. 91, A002, Krankenhausstr. 91, 50354 Hürth
END:VEVENT
BEGIN:VEVENT
DTSTAMP:20260425T062753
DTSTART;TZID=Europe/Berlin:20260616T180000
DTEND;TZID=Europe/Berlin:20260616T210000
UID:261-5025-20260616T180000@VHSRHEIN-ERFT
SUMMARY:Deutsch als Fremdsprache Anfängerkurs A1 – 2. Teil (261-5025) 
LOCATION:Friedrich-Ebert-Realschule, Krankenhausstr. 91, A002, Krankenhausstr. 91, 50354 Hürth
END:VEVENT
BEGIN:VEVENT
DTSTAMP:20260425T062753
DTSTART;TZID=Europe/Berlin:20260617T180000
DTEND;TZID=Europe/Berlin:20260617T210000
UID:261-5025-20260617T180000@VHSRHEIN-ERFT
SUMMARY:Deutsch als Fremdsprache Anfängerkurs A1 – 2. Teil (261-5025) 
LOCATION:Friedrich-Ebert-Realschule, Krankenhausstr. 91, A002, Krankenhausstr. 91, 50354 Hürth
END:VEVENT
BEGIN:VEVENT
DTSTAMP:20260425T062753
DTSTART;TZID=Europe/Berlin:20260623T180000
DTEND;TZID=Europe/Berlin:20260623T210000
UID:261-5025-20260623T180000@VHSRHEIN-ERFT
SUMMARY:Deutsch als Fremdsprache Anfängerkurs A1 – 2. Teil (261-5025) 
LOCATION:Friedrich-Ebert-Realschule, Krankenhausstr. 91, A002, Krankenhausstr. 91, 50354 Hürth
END:VEVENT
BEGIN:VEVENT
DTSTAMP:20260425T062753
DTSTART;TZID=Europe/Berlin:20260624T180000
DTEND;TZID=Europe/Berlin:20260624T210000
UID:261-5025-20260624T180000@VHSRHEIN-ERFT
SUMMARY:Deutsch als Fremdsprache Anfängerkurs A1 – 2. Teil (261-5025) 
LOCATION:Friedrich-Ebert-Realschule, Krankenhausstr. 91, A002, Krankenhausstr. 91, 50354 Hürth
END:VEVENT
BEGIN:VEVENT
DTSTAMP:20260425T062753
DTSTART;TZID=Europe/Berlin:20260630T180000
DTEND;TZID=Europe/Berlin:20260630T210000
UID:261-5025-20260630T180000@VHSRHEIN-ERFT
SUMMARY:Deutsch als Fremdsprache Anfängerkurs A1 – 2. Teil (261-5025) 
LOCATION:Friedrich-Ebert-Realschule, Krankenhausstr. 91, A002, Krankenhausstr. 91, 50354 Hürth
END:VEVENT
BEGIN:VEVENT
DTSTAMP:20260425T062753
DTSTART;TZID=Europe/Berlin:20260701T180000
DTEND;TZID=Europe/Berlin:20260701T210000
UID:261-5025-20260701T180000@VHSRHEIN-ERFT
SUMMARY:Deutsch als Fremdsprache Anfängerkurs A1 – 2. Teil (261-5025) 
LOCATION:Friedrich-Ebert-Realschule, Krankenhausstr. 91, A002, Krankenhausstr. 91, 50354 Hürth
END:VEVENT
BEGIN:VEVENT
DTSTAMP:20260425T062753
DTSTART;TZID=Europe/Berlin:20260714T180000
DTEND;TZID=Europe/Berlin:20260714T210000
UID:261-5025-20260714T180000@VHSRHEIN-ERFT
DESCRIPTION:Ersatz für Ausfall am 07.07.2026
SUMMARY:Deutsch als Fremdsprache Anfängerkurs A1 – 2. Teil (261-5025) 
LOCATION:Friedrich-Ebert-Realschule, Krankenhausstr. 91, A002, Krankenhausstr. 91, 50354 Hürth
END:VEVENT
BEGIN:VEVENT
DTSTAMP:20260425T062753
DTSTART;TZID=Europe/Berlin:20260715T180000
DTEND;TZID=Europe/Berlin:20260715T210000
UID:261-5025-20260715T180000@VHSRHEIN-ERFT
DESCRIPTION:Ersatz für Ausfall am 08.07.2026
SUMMARY:Deutsch als Fremdsprache Anfängerkurs A1 – 2. Teil (261-5025) 
LOCATION:Friedrich-Ebert-Realschule, Krankenhausstr. 91, A002, Krankenhausstr. 91, 50354 Hürth
END:VEVENT
END:VCALENDAR